BEGIN:VCALENDAR
VERSION:2.0
PRODID:-//Kirk Wallace Johnson - ECPv6.15.15//NONSGML v1.0//EN
CALSCALE:GREGORIAN
METHOD:PUBLISH
X-ORIGINAL-URL:http://kirkwjohnson.com
X-WR-CALDESC:Events for Kirk Wallace Johnson
REFRESH-INTERVAL;VALUE=DURATION:PT1H
X-Robots-Tag:noindex
X-PUBLISHED-TTL:PT1H
BEGIN:VTIMEZONE
TZID:America/Denver
BEGIN:DAYLIGHT
TZOFFSETFROM:-0700
TZOFFSETTO:-0600
TZNAME:MDT
DTSTART:20210314T090000
END:DAYLIGHT
BEGIN:STANDARD
TZOFFSETFROM:-0600
TZOFFSETTO:-0700
TZNAME:MST
DTSTART:20211107T080000
END:STANDARD
BEGIN:DAYLIGHT
TZOFFSETFROM:-0700
TZOFFSETTO:-0600
TZNAME:MDT
DTSTART:20220313T090000
END:DAYLIGHT
BEGIN:STANDARD
TZOFFSETFROM:-0600
TZOFFSETTO:-0700
TZNAME:MST
DTSTART:20221106T080000
END:STANDARD
BEGIN:DAYLIGHT
TZOFFSETFROM:-0700
TZOFFSETTO:-0600
TZNAME:MDT
DTSTART:20230312T090000
END:DAYLIGHT
BEGIN:STANDARD
TZOFFSETFROM:-0600
TZOFFSETTO:-0700
TZNAME:MST
DTSTART:20231105T080000
END:STANDARD
END:VTIMEZONE
BEGIN:VTIMEZONE
TZID:America/New_York
BEGIN:DAYLIGHT
TZOFFSETFROM:-0500
TZOFFSETTO:-0400
TZNAME:EDT
DTSTART:20200308T070000
END:DAYLIGHT
BEGIN:STANDARD
TZOFFSETFROM:-0400
TZOFFSETTO:-0500
TZNAME:EST
DTSTART:20201101T060000
END:STANDARD
BEGIN:DAYLIGHT
TZOFFSETFROM:-0500
TZOFFSETTO:-0400
TZNAME:EDT
DTSTART:20210314T070000
END:DAYLIGHT
BEGIN:STANDARD
TZOFFSETFROM:-0400
TZOFFSETTO:-0500
TZNAME:EST
DTSTART:20211107T060000
END:STANDARD
BEGIN:DAYLIGHT
TZOFFSETFROM:-0500
TZOFFSETTO:-0400
TZNAME:EDT
DTSTART:20220313T070000
END:DAYLIGHT
BEGIN:STANDARD
TZOFFSETFROM:-0400
TZOFFSETTO:-0500
TZNAME:EST
DTSTART:20221106T060000
END:STANDARD
BEGIN:DAYLIGHT
TZOFFSETFROM:-0500
TZOFFSETTO:-0400
TZNAME:EDT
DTSTART:20230312T070000
END:DAYLIGHT
BEGIN:STANDARD
TZOFFSETFROM:-0400
TZOFFSETTO:-0500
TZNAME:EST
DTSTART:20231105T060000
END:STANDARD
END:VTIMEZONE
BEGIN:VTIMEZONE
TZID:America/Los_Angeles
BEGIN:DAYLIGHT
TZOFFSETFROM:-0800
TZOFFSETTO:-0700
TZNAME:PDT
DTSTART:20200308T100000
END:DAYLIGHT
BEGIN:STANDARD
TZOFFSETFROM:-0700
TZOFFSETTO:-0800
TZNAME:PST
DTSTART:20201101T090000
END:STANDARD
BEGIN:DAYLIGHT
TZOFFSETFROM:-0800
TZOFFSETTO:-0700
TZNAME:PDT
DTSTART:20210314T100000
END:DAYLIGHT
BEGIN:STANDARD
TZOFFSETFROM:-0700
TZOFFSETTO:-0800
TZNAME:PST
DTSTART:20211107T090000
END:STANDARD
BEGIN:DAYLIGHT
TZOFFSETFROM:-0800
TZOFFSETTO:-0700
TZNAME:PDT
DTSTART:20220313T100000
END:DAYLIGHT
BEGIN:STANDARD
TZOFFSETFROM:-0700
TZOFFSETTO:-0800
TZNAME:PST
DTSTART:20221106T090000
END:STANDARD
END:VTIMEZONE
BEGIN:VEVENT
DTSTART;TZID=America/Denver:20220524T180000
DTEND;TZID=America/Denver:20220524T200000
DTSTAMP:20260424T093334
CREATED:20220303T192645Z
LAST-MODIFIED:20220303T192645Z
UID:1926-1653415200-1653422400@kirkwjohnson.com
SUMMARY:Roaring Fork Conservancy
DESCRIPTION:Discussion of The Feather Thief at the Roaring Fork Conservancy in Basalt\, Colorado. \nDetails to come here.
URL:http://kirkwjohnson.com/event/roaring-fork-conservancy/
LOCATION:Roaring Fork Conservancy\, 22800 Two Rivers Road\, Basalt\, CO\, 81621\, United States
END:VEVENT
BEGIN:VEVENT
DTSTART;TZID=America/New_York:20220302T163000
DTEND;TZID=America/New_York:20220302T173000
DTSTAMP:20260424T093334
CREATED:20220217T200936Z
LAST-MODIFIED:20220222T165734Z
UID:1914-1646238600-1646242200@kirkwjohnson.com
SUMMARY:Yale University: Franke Program in Science and the Humanities
DESCRIPTION:Virtual Event: discussion of The Feather Thief\, hosted by Yale’s Franke Program in Science and the Humanities. \nRegister in advance for this webinar: \nhttps://yale.zoom.us/webinar/register/WN_JCgMBe7VRI6K_Hpgpvw20w\n\n\n  \n 
URL:http://kirkwjohnson.com/event/yale-university-franke-program-in-science-and-the-humanities/
LOCATION:CO
END:VEVENT
BEGIN:VEVENT
DTSTART;TZID=America/Los_Angeles:20211030T120000
DTEND;TZID=America/Los_Angeles:20211030T153000
DTSTAMP:20260424T093334
CREATED:20210104T213853Z
LAST-MODIFIED:20210105T191551Z
UID:1747-1635595200-1635607800@kirkwjohnson.com
SUMMARY:Grosse Pointe Public Library
DESCRIPTION:Authors to the Pointe…details to come.
URL:http://kirkwjohnson.com/event/grosse-pointe-public-library/
LOCATION:Grosse Pointe Public Library\, 32 Lake Shore Drive\, Grosse Pointe Farms\, MI\, 48236\, United States
END:VEVENT
BEGIN:VEVENT
DTSTART;TZID=America/New_York:20210412T190000
DTEND;TZID=America/New_York:20210412T203000
DTSTAMP:20260424T093334
CREATED:20210104T214339Z
LAST-MODIFIED:20210104T214339Z
UID:1751-1618254000-1618259400@kirkwjohnson.com
SUMMARY:The Frick Pittsburgh
DESCRIPTION:Zoom event.
URL:http://kirkwjohnson.com/event/the-frick-pittsburgh/
LOCATION:The Frick Pittsburgh\, 7227 Reynolds St.\, Pittsburgh\, PA\, 15208\, United States
END:VEVENT
BEGIN:VEVENT
DTSTART;TZID=America/Los_Angeles:20210319T100000
DTEND;TZID=America/Los_Angeles:20210319T140000
DTSTAMP:20260424T093334
CREATED:20210104T202424Z
LAST-MODIFIED:20210104T213924Z
UID:1739-1616148000-1616162400@kirkwjohnson.com
SUMMARY:Ding Darling Natural Wildlife Refuge
DESCRIPTION:Details to come.
URL:http://kirkwjohnson.com/event/ding-darling-natural-wildlife-refuge/
LOCATION:Sanibel Community House\, 2173 Periwinkle Way\, Sanibel\, FL\, 33957\, United States
END:VEVENT
END:VCALENDAR